BEGIN:VCALENDAR
VERSION:2.0
PRODID:-//EKCEP - ECPv6.15.20//NONSGML v1.0//EN
CALSCALE:GREGORIAN
METHOD:PUBLISH
X-WR-CALNAME:EKCEP
X-ORIGINAL-URL:https://ekcep.org
X-WR-CALDESC:Events for EKCEP
REFRESH-INTERVAL;VALUE=DURATION:PT1H
X-Robots-Tag:noindex
X-PUBLISHED-TTL:PT1H
BEGIN:VTIMEZONE
TZID:America/Kentucky/Louisville
BEGIN:DAYLIGHT
TZOFFSETFROM:-0500
TZOFFSETTO:-0400
TZNAME:EDT
DTSTART:20250309T070000
END:DAYLIGHT
BEGIN:STANDARD
TZOFFSETFROM:-0400
TZOFFSETTO:-0500
TZNAME:EST
DTSTART:20251102T060000
END:STANDARD
BEGIN:DAYLIGHT
TZOFFSETFROM:-0500
TZOFFSETTO:-0400
TZNAME:EDT
DTSTART:20260308T070000
END:DAYLIGHT
BEGIN:STANDARD
TZOFFSETFROM:-0400
TZOFFSETTO:-0500
TZNAME:EST
DTSTART:20261101T060000
END:STANDARD
BEGIN:DAYLIGHT
TZOFFSETFROM:-0500
TZOFFSETTO:-0400
TZNAME:EDT
DTSTART:20270314T070000
END:DAYLIGHT
BEGIN:STANDARD
TZOFFSETFROM:-0400
TZOFFSETTO:-0500
TZNAME:EST
DTSTART:20271107T060000
END:STANDARD
END:VTIMEZONE
BEGIN:VEVENT
DTSTART;TZID=America/Kentucky/Louisville:20260422T100000
DTEND;TZID=America/Kentucky/Louisville:20260422T140000
DTSTAMP:20260422T070728
CREATED:20260331T180840Z
LAST-MODIFIED:20260331T180844Z
UID:4028-1776852000-1776866400@ekcep.org
SUMMARY:Daniel Boone Multi Employer Job Fair
DESCRIPTION:
URL:https://ekcep.org/event/daniel-boone-multi-employer-job-fair/
LOCATION:Jackson County Cooperative  Extension  Confrence Center\, 1296 Main Street\, Mckee\, 40447\, United States
END:VEVENT
BEGIN:VEVENT
DTSTART;TZID=America/Kentucky/Louisville:20260422T130000
DTEND;TZID=America/Kentucky/Louisville:20260422T150000
DTSTAMP:20260422T070728
CREATED:20260406T155052Z
LAST-MODIFIED:20260406T155056Z
UID:4056-1776862800-1776870000@ekcep.org
SUMMARY:VR Career Exploration Workshop - Northeast
DESCRIPTION:
URL:https://ekcep.org/event/vr-career-exploration-workshop-northeast/
LOCATION:Grayson KCC\, 520 E Main St\, Grayson\, Kentucky\, 41143
END:VEVENT
BEGIN:VEVENT
DTSTART;TZID=America/Kentucky/Louisville:20260423T100000
DTEND;TZID=America/Kentucky/Louisville:20260423T140000
DTSTAMP:20260422T070728
CREATED:20260406T154617Z
LAST-MODIFIED:20260406T154621Z
UID:4050-1776938400-1776952800@ekcep.org
SUMMARY:Multi Employer Job Fair - Harlan
DESCRIPTION:
URL:https://ekcep.org/event/multi-employer-job-fair-harlan/
LOCATION:Kentucky
END:VEVENT
BEGIN:VEVENT
DTSTART;TZID=America/Kentucky/Louisville:20260423T140000
DTEND;TZID=America/Kentucky/Louisville:20260423T160000
DTSTAMP:20260422T070728
CREATED:20260325T151723Z
LAST-MODIFIED:20260325T151727Z
UID:3996-1776952800-1776960000@ekcep.org
SUMMARY:Teleworks Academy - LKLP
DESCRIPTION:
URL:https://ekcep.org/event/teleworks-academy-lklp/
LOCATION:Knott County Public Library\, 238 KY 160\, Hindman\, KY\, 41822\, United States
END:VEVENT
BEGIN:VEVENT
DTSTART;TZID=America/Kentucky/Louisville:20260424T090000
DTEND;TZID=America/Kentucky/Louisville:20260424T160000
DTSTAMP:20260422T070728
CREATED:20260319T150749Z
LAST-MODIFIED:20260319T162308Z
UID:3965-1777021200-1777046400@ekcep.org
SUMMARY:Reverse Job Fair - Middle KY
DESCRIPTION:
URL:https://ekcep.org/event/reverse-job-fair-middle-ky/
LOCATION:Kentucky
END:VEVENT
BEGIN:VEVENT
DTSTART;TZID=America/Kentucky/Louisville:20260429T100000
DTEND;TZID=America/Kentucky/Louisville:20260429T120000
DTSTAMP:20260422T070728
CREATED:20260409T170807Z
LAST-MODIFIED:20260409T170812Z
UID:4063-1777456800-1777464000@ekcep.org
SUMMARY:Resume Building Workshop - Middle KY
DESCRIPTION:
URL:https://ekcep.org/event/resume-building-workshop-middle-ky/
LOCATION:Kentucky
END:VEVENT
BEGIN:VEVENT
DTSTART;TZID=America/Kentucky/Louisville:20260429T100000
DTEND;TZID=America/Kentucky/Louisville:20260429T120000
DTSTAMP:20260422T070728
CREATED:20260420T160709Z
LAST-MODIFIED:20260420T160711Z
UID:4071-1777456800-1777464000@ekcep.org
SUMMARY:Teleworks Academy Workshop - KCEOC
DESCRIPTION:
URL:https://ekcep.org/event/teleworks-academy-workshop-kceoc-4/
LOCATION:Barbourville City Hall\, 196 Daniel Boone Drive\, Barbourville\, Kentucky\, 40906
END:VEVENT
BEGIN:VEVENT
DTSTART;TZID=America/Kentucky/Louisville:20260430T100000
DTEND;TZID=America/Kentucky/Louisville:20260430T120000
DTSTAMP:20260422T070728
CREATED:20260420T161011Z
LAST-MODIFIED:20260420T161014Z
UID:4074-1777543200-1777550400@ekcep.org
SUMMARY:Etiquette Workshop - Daniel Boone CAA
DESCRIPTION:
URL:https://ekcep.org/event/etiquette-workshop-daniel-boone-caa/
LOCATION:Jackson County Adult Education\, 654 Educational Mountain Drive\, McKee\, Kentucky\, 40447\, United States
END:VEVENT
END:VCALENDAR