BEGIN:VCALENDAR
VERSION:2.0
PRODID:-//EKCEP - ECPv6.15.20//NONSGML v1.0//EN
CALSCALE:GREGORIAN
METHOD:PUBLISH
X-ORIGINAL-URL:https://ekcep.org
X-WR-CALDESC:Events for EKCEP
REFRESH-INTERVAL;VALUE=DURATION:PT1H
X-Robots-Tag:noindex
X-PUBLISHED-TTL:PT1H
BEGIN:VTIMEZONE
TZID:America/Kentucky/Louisville
BEGIN:DAYLIGHT
TZOFFSETFROM:-0500
TZOFFSETTO:-0400
TZNAME:EDT
DTSTART:20240310T070000
END:DAYLIGHT
BEGIN:STANDARD
TZOFFSETFROM:-0400
TZOFFSETTO:-0500
TZNAME:EST
DTSTART:20241103T060000
END:STANDARD
BEGIN:DAYLIGHT
TZOFFSETFROM:-0500
TZOFFSETTO:-0400
TZNAME:EDT
DTSTART:20250309T070000
END:DAYLIGHT
BEGIN:STANDARD
TZOFFSETFROM:-0400
TZOFFSETTO:-0500
TZNAME:EST
DTSTART:20251102T060000
END:STANDARD
BEGIN:DAYLIGHT
TZOFFSETFROM:-0500
TZOFFSETTO:-0400
TZNAME:EDT
DTSTART:20260308T070000
END:DAYLIGHT
BEGIN:STANDARD
TZOFFSETFROM:-0400
TZOFFSETTO:-0500
TZNAME:EST
DTSTART:20261101T060000
END:STANDARD
END:VTIMEZONE
BEGIN:VEVENT
DTSTART;TZID=America/Kentucky/Louisville:20250424T150000
DTEND;TZID=America/Kentucky/Louisville:20250424T170000
DTSTAMP:20260419T095811
CREATED:20250403T232426Z
LAST-MODIFIED:20250403T232426Z
UID:2485-1745506800-1745514000@ekcep.org
SUMMARY:Time Managment Workshop (Carter County)
DESCRIPTION:
URL:https://ekcep.org/event/time-managment-workshop-carter-county/
LOCATION:21039 US 60 E Olive Hill\, KY 41164\, 21039 US 60 E\, Olive Hill\, KY\, 41164\, United States
END:VEVENT
BEGIN:VEVENT
DTSTART;TZID=America/Kentucky/Louisville:20250425T100000
DTEND;TZID=America/Kentucky/Louisville:20250425T140000
DTSTAMP:20260419T095811
CREATED:20250402T183755Z
LAST-MODIFIED:20250402T183755Z
UID:2472-1745575200-1745589600@ekcep.org
SUMMARY:Job Fair Sunny Side Daycare (Harlan)
DESCRIPTION:
URL:https://ekcep.org/event/job-fair-sunny-side-daycare-harlan/
LOCATION:Harlan Depot\, 110 River Street\, Harlan\, KY\, United States
END:VEVENT
BEGIN:VEVENT
DTSTART;TZID=America/Kentucky/Louisville:20250425T140000
DTEND;TZID=America/Kentucky/Louisville:20250425T160000
DTSTAMP:20260419T095811
CREATED:20250402T173431Z
LAST-MODIFIED:20250402T173431Z
UID:2469-1745589600-1745596800@ekcep.org
SUMMARY:Teleworks Info Session (Knott County)
DESCRIPTION:
URL:https://ekcep.org/event/teleworks-info-session-knott-county-2/
LOCATION:Knott County Public Library\, 238 KY 160\, Hindman\, KY\, 41822\, United States
END:VEVENT
BEGIN:VEVENT
DTSTART;TZID=America/Kentucky/Louisville:20250429T080000
DTEND;TZID=America/Kentucky/Louisville:20250429T170000
DTSTAMP:20260419T095811
CREATED:20250520T140009Z
LAST-MODIFIED:20250502T113853Z
UID:2692-1745913600-1745946000@ekcep.org
SUMMARY:Menifee County High School Event For Seniors
DESCRIPTION:
URL:https://ekcep.org/event/menifee-county-high-school-event-for-seniors/
LOCATION:Menifee County High School\, 119 Indian Creek Rd\, Frenchburg\, KY\, 40322\, United States
END:VEVENT
BEGIN:VEVENT
DTSTART;TZID=America/Kentucky/Louisville:20250429T080000
DTEND;TZID=America/Kentucky/Louisville:20250429T170000
DTSTAMP:20260419T095811
CREATED:20250521T140017Z
LAST-MODIFIED:20250502T113917Z
UID:2696-1745913600-1745946000@ekcep.org
SUMMARY:Morgan County High School Event For Seniors
DESCRIPTION:
URL:https://ekcep.org/event/morgan-county-high-school-event-for-seniors/
LOCATION:Morgan County High School\, 150 Rd To Success\, West Liberty\, Kentucky\, 41472
END:VEVENT
BEGIN:VEVENT
DTSTART;TZID=America/Kentucky/Louisville:20250430T100000
DTEND;TZID=America/Kentucky/Louisville:20250430T140000
DTSTAMP:20260419T095811
CREATED:20250424T163238Z
LAST-MODIFIED:20250424T163238Z
UID:2671-1746007200-1746021600@ekcep.org
SUMMARY:Teleworks Info Session (KCEOC)
DESCRIPTION:
URL:https://ekcep.org/event/teleworks-info-session-kceoc/
LOCATION:Kentucky Career Center – KCEOC\, 464 Court Square\, Barbourville\, Kentucky\, 40906
END:VEVENT
BEGIN:VEVENT
DTSTART;TZID=America/Kentucky/Louisville:20250501T100000
DTEND;TZID=America/Kentucky/Louisville:20250501T110000
DTSTAMP:20260419T095811
CREATED:20250501T161845Z
LAST-MODIFIED:20250501T162014Z
UID:2714-1746093600-1746097200@ekcep.org
SUMMARY:Time Management Workshop (Northeast)
DESCRIPTION:
URL:https://ekcep.org/event/time-management-workshop-northeast/
LOCATION:virtual
END:VEVENT
BEGIN:VEVENT
DTSTART;TZID=America/Kentucky/Louisville:20250515T100000
DTEND;TZID=America/Kentucky/Louisville:20250515T120000
DTSTAMP:20260419T095811
CREATED:20250507T175517Z
LAST-MODIFIED:20250507T175517Z
UID:2726-1747303200-1747310400@ekcep.org
SUMMARY:Teleworks Informational Session (KCEOC)
DESCRIPTION:
URL:https://ekcep.org/event/teleworks-informational-session-kceoc/
LOCATION:Kentucky Career Center – KCEOC\, 464 Court Square\, Barbourville\, Kentucky\, 40906
END:VEVENT
BEGIN:VEVENT
DTSTART;TZID=America/Kentucky/Louisville:20250515T100000
DTEND;TZID=America/Kentucky/Louisville:20250515T140000
DTSTAMP:20260419T095811
CREATED:20250430T171631Z
LAST-MODIFIED:20250430T171631Z
UID:2700-1747303200-1747317600@ekcep.org
SUMMARY:Teleworks Perry Co
DESCRIPTION:
URL:https://ekcep.org/event/teleworks-perry-co/
LOCATION:Perry County Public Library\, 289 Black Gold Blvd.\, Hazard\, Kentucky
END:VEVENT
BEGIN:VEVENT
DTSTART;TZID=America/Kentucky/Louisville:20250516T100000
DTEND;TZID=America/Kentucky/Louisville:20250516T140000
DTSTAMP:20260419T095811
CREATED:20250423T130613Z
LAST-MODIFIED:20250423T130613Z
UID:2653-1747389600-1747404000@ekcep.org
SUMMARY:Job Fair (Hazard)
DESCRIPTION:
URL:https://ekcep.org/event/job-fair-hazard/
LOCATION:Hazard Community & Technical College\, 1 Community College Dr.\, Hazard\, KY\, 41701\, United States
END:VEVENT
BEGIN:VEVENT
DTSTART;TZID=America/Kentucky/Louisville:20250516T100000
DTEND;TZID=America/Kentucky/Louisville:20250516T140000
DTSTAMP:20260419T095811
CREATED:20250424T162717Z
LAST-MODIFIED:20250424T162717Z
UID:2666-1747389600-1747404000@ekcep.org
SUMMARY:Job Fair (Northeast)
DESCRIPTION:
URL:https://ekcep.org/event/job-fair-northeast/
LOCATION:Carter Caves\, 344 Caveland Dr.\, Olive Hill\, KY\, 41164\, United States
END:VEVENT
BEGIN:VEVENT
DTSTART;TZID=America/Kentucky/Louisville:20250517T100000
DTEND;TZID=America/Kentucky/Louisville:20250517T140000
DTSTAMP:20260419T095811
CREATED:20250508T142510Z
LAST-MODIFIED:20250508T142709Z
UID:2729-1747476000-1747490400@ekcep.org
SUMMARY:Morgan County - Veterans Stand Down
DESCRIPTION:
URL:https://ekcep.org/event/morgan-county/
LOCATION:Morgan County Wellness & Youth Center\, 1600 KY-7\, West Liberty\, KY\, 14172\, United States
ATTACH;FMTTYPE=application/pdf:https://ekcep.org/wp-content/uploads/2025/05/Veterans-Stand-Down-Flyer_May-2025-2.pdf
END:VEVENT
BEGIN:VEVENT
DTSTART;TZID=America/Kentucky/Louisville:20250522T100000
DTEND;TZID=America/Kentucky/Louisville:20250522T140000
DTSTAMP:20260419T095811
CREATED:20250501T152307Z
LAST-MODIFIED:20250707T140936Z
UID:2709-1747908000-1747922400@ekcep.org
SUMMARY:Teleworks Work-From-Home (Northeast)
DESCRIPTION:
URL:https://ekcep.org/event/teleworks-work-from-home-northeast/
LOCATION:virtual
END:VEVENT
BEGIN:VEVENT
DTSTART;TZID=America/Kentucky/Louisville:20250522T130000
DTEND;TZID=America/Kentucky/Louisville:20250522T150000
DTSTAMP:20260419T095811
CREATED:20250430T172050Z
LAST-MODIFIED:20250430T172050Z
UID:2703-1747918800-1747926000@ekcep.org
SUMMARY:Teleworks Letcher County
DESCRIPTION:
URL:https://ekcep.org/event/teleworks-letcher-county/
LOCATION:Harry M Caudill Memorial Library\, 220 Main St\, Whitesburg\, Kentucky
END:VEVENT
BEGIN:VEVENT
DTSTART;TZID=America/Kentucky/Louisville:20250527T080000
DTEND;TZID=America/Kentucky/Louisville:20250527T150000
DTSTAMP:20260419T095811
CREATED:20250523T155128Z
LAST-MODIFIED:20250523T155130Z
UID:2819-1748332800-1748358000@ekcep.org
SUMMARY:Paid Summer Work Sign Up
DESCRIPTION:
URL:https://ekcep.org/event/paid-summer-work-sign-up/
LOCATION:Your Local Kentucky Career Center\, ekcep.org/find-a-career
END:VEVENT
BEGIN:VEVENT
DTSTART;TZID=America/Kentucky/Louisville:20250528T080000
DTEND;TZID=America/Kentucky/Louisville:20250528T150000
DTSTAMP:20260419T095811
CREATED:20250523T155319Z
LAST-MODIFIED:20250523T155319Z
UID:2825-1748419200-1748444400@ekcep.org
SUMMARY:Paid Summer Work Sign Up
DESCRIPTION:
URL:https://ekcep.org/event/paid-summer-work-sign-up-2/
LOCATION:Your Local Kentucky Career Center\, ekcep.org/find-a-career
END:VEVENT
BEGIN:VEVENT
DTSTART;TZID=America/Kentucky/Louisville:20250528T100000
DTEND;TZID=America/Kentucky/Louisville:20250528T110000
DTSTAMP:20260419T095811
CREATED:20250513T141701Z
LAST-MODIFIED:20250513T141701Z
UID:2760-1748426400-1748430000@ekcep.org
SUMMARY:Career Exploration Workshop (KCEOC)
DESCRIPTION:
URL:https://ekcep.org/event/career-exploration-workshop-kceoc/
LOCATION:Kentucky Career Center – KCEOC\, 464 Court Square\, Barbourville\, Kentucky\, 40906
END:VEVENT
BEGIN:VEVENT
DTSTART;TZID=America/Kentucky/Louisville:20250529T140000
DTEND;TZID=America/Kentucky/Louisville:20250529T160000
DTSTAMP:20260419T095811
CREATED:20250527T135336Z
LAST-MODIFIED:20250527T135336Z
UID:2831-1748527200-1748534400@ekcep.org
SUMMARY:Brand\, Pitch\, and Social Workshop (KCEOC)
DESCRIPTION:
URL:https://ekcep.org/event/brand-pitch-and-social-workshop-kceoc/
LOCATION:Kentucky Career Center – KCEOC\, 464 Court Square\, Barbourville\, Kentucky\, 40906
END:VEVENT
BEGIN:VEVENT
DTSTART;TZID=America/Kentucky/Louisville:20250612T100000
DTEND;TZID=America/Kentucky/Louisville:20250612T140000
DTSTAMP:20260419T095811
CREATED:20250530T193132Z
LAST-MODIFIED:20250530T193809Z
UID:2860-1749722400-1749736800@ekcep.org
SUMMARY:Harlan Job Fair
DESCRIPTION:
URL:https://ekcep.org/event/harlan-job-fair/
LOCATION:Harlan Center\, 201 S Main Street\, Harlan\, Kentucky\, 40831\, United States
END:VEVENT
BEGIN:VEVENT
DTSTART;TZID=America/Kentucky/Louisville:20250613T100000
DTEND;TZID=America/Kentucky/Louisville:20250613T140000
DTSTAMP:20260419T095811
CREATED:20250520T161309Z
LAST-MODIFIED:20250520T161310Z
UID:2786-1749808800-1749823200@ekcep.org
SUMMARY:Job Fair - Jackson\, KY
DESCRIPTION:
URL:https://ekcep.org/event/job-fair-jackson-ky/
LOCATION:Breathitt County Public Library\, 1024 College Ave.\, Jackson\, Kentucky\, 41339
END:VEVENT
BEGIN:VEVENT
DTSTART;TZID=America/Kentucky/Louisville:20250616T090000
DTEND;TZID=America/Kentucky/Louisville:20250616T110000
DTSTAMP:20260419T095811
CREATED:20250522T153349Z
LAST-MODIFIED:20250522T153350Z
UID:2808-1750064400-1750071600@ekcep.org
SUMMARY:Teleworks - Work From Home - Hyden\, KY
DESCRIPTION:
URL:https://ekcep.org/event/teleworks-work-from-home-hyden-ky/
LOCATION:Leslie County Public Library\, 22065 Main Street\, Hyden\, KY\, 41794\, United States
END:VEVENT
BEGIN:VEVENT
DTSTART;TZID=America/Kentucky/Louisville:20250625T100000
DTEND;TZID=America/Kentucky/Louisville:20250625T150000
DTSTAMP:20260419T095811
CREATED:20250616T141511Z
LAST-MODIFIED:20250616T141515Z
UID:2910-1750845600-1750863600@ekcep.org
SUMMARY:DTS Industries Hiring Event (Daniel Boone)
DESCRIPTION:
URL:https://ekcep.org/event/dts-industries-hiring-event-daniel-boone/
LOCATION:Daniel Boone CAA\, 5748 KY 290\, McKee\, Kentucky\, 40447\, United States
END:VEVENT
BEGIN:VEVENT
DTSTART;TZID=America/Kentucky/Louisville:20250626T140000
DTEND;TZID=America/Kentucky/Louisville:20250626T160000
DTSTAMP:20260419T095811
CREATED:20250522T153733Z
LAST-MODIFIED:20250522T153734Z
UID:2811-1750946400-1750953600@ekcep.org
SUMMARY:Teleworks - Knott County - Work From Home
DESCRIPTION:
URL:https://ekcep.org/event/teleworks-knott-county-work-from-home/
LOCATION:Knott County Public Library\, 238 KY 160\, Hindman\, KY\, 41822\, United States
END:VEVENT
BEGIN:VEVENT
DTSTART;TZID=America/Kentucky/Louisville:20250627T100000
DTEND;TZID=America/Kentucky/Louisville:20250627T110000
DTSTAMP:20260419T095811
CREATED:20250624T144705Z
LAST-MODIFIED:20250624T144711Z
UID:2935-1751018400-1751022000@ekcep.org
SUMMARY:Crafting A Winning Cover Letter - Daniel Boone
DESCRIPTION:
URL:https://ekcep.org/event/crafting-a-winning-cover-letter-daniel-boone/
LOCATION:Daniel Boone CAA\, 1535 Shamrock Rd\, Manchester\, Kentucky\, 40962
END:VEVENT
BEGIN:VEVENT
DTSTART;TZID=America/Kentucky/Louisville:20250703T150000
DTEND;TZID=America/Kentucky/Louisville:20250703T160000
DTSTAMP:20260419T095811
CREATED:20250701T120835Z
LAST-MODIFIED:20250701T120838Z
UID:2995-1751554800-1751558400@ekcep.org
SUMMARY:Career Exploration Event (Bell-Whitley)
DESCRIPTION:
URL:https://ekcep.org/event/career-exploration-event-bell-whitley/
END:VEVENT
BEGIN:VEVENT
DTSTART;TZID=America/Kentucky/Louisville:20250710T100000
DTEND;TZID=America/Kentucky/Louisville:20250710T110000
DTSTAMP:20260419T095811
CREATED:20250701T120417Z
LAST-MODIFIED:20250701T120419Z
UID:2992-1752141600-1752145200@ekcep.org
SUMMARY:Job Search Event (Bell-Whitley)
DESCRIPTION:
URL:https://ekcep.org/event/job-search-event-bell-whitley/
END:VEVENT
BEGIN:VEVENT
DTSTART;TZID=America/Kentucky/Louisville:20250710T130000
DTEND;TZID=America/Kentucky/Louisville:20250710T140000
DTSTAMP:20260419T095811
CREATED:20250701T115113Z
LAST-MODIFIED:20250701T115305Z
UID:2976-1752152400-1752156000@ekcep.org
SUMMARY:Northeast Résumé Building Class
DESCRIPTION:
URL:https://ekcep.org/event/northeast-resume-building-class/
LOCATION:Lawrence County Library\, 102 W Main St\, Louis\, KY\, 41230\, United States
END:VEVENT
BEGIN:VEVENT
DTSTART;TZID=America/Kentucky/Louisville:20250717T100000
DTEND;TZID=America/Kentucky/Louisville:20250717T110000
DTSTAMP:20260419T095811
CREATED:20250701T120023Z
LAST-MODIFIED:20250701T120026Z
UID:2988-1752746400-1752750000@ekcep.org
SUMMARY:Interview Skills Workshop (Bell-Whitley)
DESCRIPTION:
URL:https://ekcep.org/event/interview-skills-workshop-bell-whitley/
END:VEVENT
BEGIN:VEVENT
DTSTART;TZID=America/Kentucky/Louisville:20250717T100000
DTEND;TZID=America/Kentucky/Louisville:20250717T120000
DTSTAMP:20260419T095811
CREATED:20250702T145512Z
LAST-MODIFIED:20250702T145514Z
UID:3022-1752746400-1752753600@ekcep.org
SUMMARY:Teleworks Info Session
DESCRIPTION:
URL:https://ekcep.org/event/teleworks-info-session/
LOCATION:Perry County Public Library\, 289 Black Gold Blvd.\, Hazard\, Kentucky
END:VEVENT
BEGIN:VEVENT
DTSTART;TZID=America/Kentucky/Louisville:20250722T100000
DTEND;TZID=America/Kentucky/Louisville:20250722T110000
DTSTAMP:20260419T095811
CREATED:20250722T123237Z
LAST-MODIFIED:20250722T123240Z
UID:3100-1753178400-1753182000@ekcep.org
SUMMARY:VR Workshop Daniel Boone
DESCRIPTION:
URL:https://ekcep.org/event/vr-workshop-daniel-boone/
LOCATION:Daniel Boone Community Action Agency\, 1535 Shamrock RD\, Manchester\, Kentucky\, 40962
END:VEVENT
END:VCALENDAR